BEGIN:VCALENDAR
VERSION:2.0
PRODID:-//Focales
CALSCALE:GREGORIAN
METHOD:PUBLISH
X-WR-CALNAME:Focales
X-ORIGINAL-URL:https://focales.org/quest-ce-quon-a-fait-au-bon-dieu-clermont-ferrand/
X-WR-CALDESC:QU&rsquo;EST-CE QU&rsquo;ON A FAIT AU BON DIEU ?
BEGIN:VEVENT
DTSTART:20150717T221500
DTEND:20150717T235500
SUMMARY:QU&rsquo;EST-CE QU&rsquo;ON A FAIT AU BON DIEU ?
DESCRIPTION:
LOCATION:45.7596248 3.1008142
END:VEVENT
END:VCALENDAR
