BEGIN:VCALENDAR
VERSION:2.0
PRODID:-//Focales
CALSCALE:GREGORIAN
METHOD:PUBLISH
X-WR-CALNAME:Focales
X-ORIGINAL-URL:https://focales.org/je-lutte-donc-je-suis-en-presence-de-yannis-youlountas/
X-WR-CALDESC:JE LUTTE DONC JE SUIS EN PRESENCE DE YANNIS YOULOUNTAS
BEGIN:VEVENT
DTSTART:20151019T200000
DTEND:20151019T220000
SUMMARY:JE LUTTE DONC JE SUIS EN PRESENCE DE YANNIS YOULOUNTAS
DESCRIPTION:
LOCATION:Cinéma le Rio 
END:VEVENT
END:VCALENDAR
