BEGIN:VCALENDAR
VERSION:2.0
PRODID:-//Focales
CALSCALE:GREGORIAN
METHOD:PUBLISH
X-WR-CALNAME:Focales
X-ORIGINAL-URL:https://focales.org/les-minions-clermont-ferrand/
X-WR-CALDESC:LES MINIONS
BEGIN:VEVENT
DTSTART:20160708T221500
DTEND:20160708T235200
SUMMARY:LES MINIONS
DESCRIPTION:
LOCATION:Maison de quartier Fontaine-du-Bac, Rue de la Fontaine du Bac, Clermont-Ferrand, France
END:VEVENT
END:VCALENDAR
