BEGIN:VCALENDAR
VERSION:2.0
PRODID:-//Focales
CALSCALE:GREGORIAN
METHOD:PUBLISH
X-WR-CALNAME:Focales
X-ORIGINAL-URL:https://focales.org/la-direction-des-acteurs-par-david-levadoux/
X-WR-CALDESC:LA DIRECTION DES ACTEURS PAR DAVID LEVADOUX
BEGIN:VEVENT
DTSTART:20151217T170000
DTEND:20151217T190000
SUMMARY:LA DIRECTION DES ACTEURS PAR DAVID LEVADOUX
DESCRIPTION:
LOCATION:la Jetée
END:VEVENT
END:VCALENDAR
