BEGIN:VCALENDAR
VERSION:2.0
PRODID:-//Focales
CALSCALE:GREGORIAN
METHOD:PUBLISH
X-WR-CALNAME:Focales
X-ORIGINAL-URL:https://focales.org/cine-concert-wouaaah/
X-WR-CALDESC:CINE-CONCERT AUTOUR DE WOUAAAH
BEGIN:VEVENT
DTSTART:20151211T203000
DTEND:20151211T223000
SUMMARY:CINE-CONCERT AUTOUR DE WOUAAAH
DESCRIPTION:
LOCATION:Auditorium Cziffra 
END:VEVENT
END:VCALENDAR
