BEGIN:VCALENDAR
VERSION:2.0
PRODID:-//Focales
CALSCALE:GREGORIAN
METHOD:PUBLISH
X-WR-CALNAME:Focales
X-ORIGINAL-URL:https://focales.org/residence-artistisque-de-brahim-fritah-et-jean-chritsophe-onno/
X-WR-CALDESC:RESIDENCE ARTISTIQUE DE BRAHIM FRITAH ET JEAN-CHRISTOPHE ONNO
BEGIN:VEVENT
DTSTART:20151207T100000
DTEND:20151212T180000
SUMMARY:RESIDENCE ARTISTIQUE DE BRAHIM FRITAH ET JEAN-CHRISTOPHE ONNO
DESCRIPTION:
LOCATION:Auditorium de la Chaise-Dieu
END:VEVENT
END:VCALENDAR
