BEGIN:VCALENDAR
VERSION:2.0
PRODID:-//Focales
CALSCALE:GREGORIAN
METHOD:PUBLISH
X-WR-CALNAME:Focales
X-ORIGINAL-URL:https://focales.org/un-autre-monde-est-possible-en-presence-du-realisateur/
X-WR-CALDESC:UN AUTRE MONDE EST POSSIBLE EN PRESENCE DU REALISATEUR
BEGIN:VEVENT
DTSTART:20150930T203000
DTEND:20150930T223000
SUMMARY:UN AUTRE MONDE EST POSSIBLE EN PRESENCE DU REALISATEUR
DESCRIPTION:
LOCATION:café les Augustes
END:VEVENT
END:VCALENDAR
