BEGIN:VCALENDAR
VERSION:2.0
PRODID:-//Focales
CALSCALE:GREGORIAN
METHOD:PUBLISH
X-WR-CALNAME:Focales
X-ORIGINAL-URL:https://focales.org/quand-je-ne-dors-pas-en-presence-du-realisateur/
X-WR-CALDESC:QUAND JE NE DORS PAS EN PRESENCE DU REALISATEUR
BEGIN:VEVENT
DTSTART:20151008T203000
DTEND:20151008T223000
SUMMARY:QUAND JE NE DORS PAS EN PRESENCE DU REALISATEUR
DESCRIPTION:
LOCATION:Cinéma le Rio 
END:VEVENT
END:VCALENDAR
