BEGIN:VCALENDAR
VERSION:2.0
PRODID:-//Focales
CALSCALE:GREGORIAN
METHOD:PUBLISH
X-WR-CALNAME:Focales
X-ORIGINAL-URL:https://focales.org/nature-in-focus-en-presence-des-realisateurs/
X-WR-CALDESC:NATURE IN FOCUS EN PRESENCE DES REALISATEURS
BEGIN:VEVENT
DTSTART:20151107T180000
DTEND:20151107T200000
SUMMARY:NATURE IN FOCUS EN PRESENCE DES REALISATEURS
DESCRIPTION:
LOCATION:Cap Cinéma 
END:VEVENT
END:VCALENDAR
