BEGIN:VCALENDAR
VERSION:2.0
PRODID:-//Focales
CALSCALE:GREGORIAN
METHOD:PUBLISH
X-WR-CALNAME:Focales
X-ORIGINAL-URL:https://focales.org/faut-savoir-se-contenter-de-beaucoup-en-presence-du-realisateur/
X-WR-CALDESC:FAUT SAVOIR SE CONTENTER DE BEAUCOUP EN PRESENCE DU REALISATEUR
BEGIN:VEVENT
DTSTART:20151030T203000
DTEND:20151030T223000
SUMMARY:FAUT SAVOIR SE CONTENTER DE BEAUCOUP EN PRESENCE DU REALISATEUR
DESCRIPTION:
LOCATION:Cinéma le Rio
END:VEVENT
END:VCALENDAR
