BEGIN:VCALENDAR
VERSION:2.0
PRODID:-//Focales
CALSCALE:GREGORIAN
METHOD:PUBLISH
X-WR-CALNAME:Focales
X-ORIGINAL-URL:https://focales.org/la-ligne-de-couleur-en-presence-de-la-realisatrice/
X-WR-CALDESC:LA LIGNE DE COULEUR EN PRESENCE DE LA REALISATRICE
BEGIN:VEVENT
DTSTART:20151120T203000
DTEND:20151120T223000
SUMMARY:LA LIGNE DE COULEUR EN PRESENCE DE LA REALISATRICE
DESCRIPTION:
LOCATION:Cinéma le Rio
END:VEVENT
END:VCALENDAR
