BEGIN:VCALENDAR
VERSION:2.0
PRODID:-//Focales
CALSCALE:GREGORIAN
METHOD:PUBLISH
X-WR-CALNAME:Focales
X-ORIGINAL-URL:https://focales.org/cine-concert-le-voyage-du-lion-boniface/
X-WR-CALDESC:CINE-CONCERT LE VOYAGE DU LION BONIFACE
BEGIN:VEVENT
DTSTART:20151112T180000
DTEND:20151112T200000
SUMMARY:CINE-CONCERT LE VOYAGE DU LION BONIFACE
DESCRIPTION:
LOCATION:La coopérative de mai
END:VEVENT
END:VCALENDAR
