BEGIN:VCALENDAR
VERSION:2.0
PRODID:-//Focales
CALSCALE:GREGORIAN
METHOD:PUBLISH
X-WR-CALNAME:Focales
X-ORIGINAL-URL:https://focales.org/appel-a-candidature-jury-etudiant-festival-2016/
X-WR-CALDESC:JURY ETUDIANT FESTIVAL 2016
BEGIN:VEVENT
DTSTART:20151127T170000
DTEND:20151127T190000
SUMMARY:JURY ETUDIANT FESTIVAL 2016
DESCRIPTION:
LOCATION:
END:VEVENT
END:VCALENDAR
