BEGIN:VCALENDAR
VERSION:2.0
PRODID:-//Focales
CALSCALE:GREGORIAN
METHOD:PUBLISH
X-WR-CALNAME:Focales
X-ORIGINAL-URL:https://focales.org/comme-ils-respirent-en-presence-de-la-realisatrice/
X-WR-CALDESC:COMME ILS RESPIRENT EN PRESENCE DE LA REALISATRICE
BEGIN:VEVENT
DTSTART:20151121T203000
DTEND:20151121T223000
SUMMARY:COMME ILS RESPIRENT EN PRESENCE DE LA REALISATRICE
DESCRIPTION:
LOCATION:Cinéma le Rio
END:VEVENT
END:VCALENDAR
