BEGIN:VCALENDAR
VERSION:2.0
PRODID:-//Focales
CALSCALE:GREGORIAN
METHOD:PUBLISH
X-WR-CALNAME:Focales
X-ORIGINAL-URL:https://focales.org/conference-autour-de-playtime-de-tati/
X-WR-CALDESC:CONFERENCE AUTOUR DE PLAYTIME DE TATI
BEGIN:VEVENT
DTSTART:20151022T200000
DTEND:20151022T220000
SUMMARY:CONFERENCE AUTOUR DE PLAYTIME DE TATI
DESCRIPTION:
LOCATION:cinéma le Rio 
END:VEVENT
END:VCALENDAR
