BEGIN:VCALENDAR
VERSION:2.0
PRODID:-//Focales
CALSCALE:GREGORIAN
METHOD:PUBLISH
X-WR-CALNAME:Focales
X-ORIGINAL-URL:https://focales.org/fireworks-en-presence-du-realisateur/
X-WR-CALDESC:FIREWORKS EN PRÉSENCE DU RÉALISATEUR
BEGIN:VEVENT
DTSTART:20151105T173000
DTEND:20151105T193000
SUMMARY:FIREWORKS EN PRÉSENCE DU RÉALISATEUR
DESCRIPTION:
LOCATION:ENSACF, Rue du Docteur Bousquet, Clermont-Ferrand
END:VEVENT
END:VCALENDAR
