BEGIN:VCALENDAR
VERSION:2.0
PRODID:-//Focales
CALSCALE:GREGORIAN
METHOD:PUBLISH
X-WR-CALNAME:Focales
X-ORIGINAL-URL:https://focales.org/nostalgie-de-la-lumiere-en-presence-dolivier-bersou/
X-WR-CALDESC:NOSTALGIE DE LA LUMIERE EN PRESENCE D&rsquo;OLIVIER BERSOU
BEGIN:VEVENT
DTSTART:20151118T200000
DTEND:20151118T220000
SUMMARY:NOSTALGIE DE LA LUMIERE EN PRESENCE D&rsquo;OLIVIER BERSOU
DESCRIPTION:
LOCATION:La Jetée
END:VEVENT
END:VCALENDAR
