BEGIN:VCALENDAR
VERSION:2.0
PRODID:-//Focales
CALSCALE:GREGORIAN
METHOD:PUBLISH
X-WR-CALNAME:Focales
X-ORIGINAL-URL:https://focales.org/concours-de-la-jeune-critique/
X-WR-CALDESC:CONCOURS DE LA JEUNE CRITIQUE
BEGIN:VEVENT
DTSTART:20160408T170000
DTEND:20160408T190000
SUMMARY:CONCOURS DE LA JEUNE CRITIQUE
DESCRIPTION:
LOCATION:La Jetée
END:VEVENT
END:VCALENDAR
