BEGIN:VCALENDAR
VERSION:2.0
PRODID:-//Focales
CALSCALE:GREGORIAN
METHOD:PUBLISH
X-WR-CALNAME:Focales
X-ORIGINAL-URL:https://focales.org/monsieur-cauchemar-en-presence-du-realisateur/
X-WR-CALDESC:MR CAUCHEMAR EN PRESENCE DU REALISATEUR
BEGIN:VEVENT
DTSTART:20151119T203000
DTEND:20151119T223000
SUMMARY:MR CAUCHEMAR EN PRESENCE DU REALISATEUR
DESCRIPTION:
LOCATION:Cinéma le Palace Montluçon
END:VEVENT
END:VCALENDAR
