BEGIN:VCALENDAR
VERSION:2.0
PRODID:-//Focales
CALSCALE:GREGORIAN
METHOD:PUBLISH
X-WR-CALNAME:Focales
X-ORIGINAL-URL:https://focales.org/ningen-en-presence-des-realisateurs/
X-WR-CALDESC:NINGEN EN PRESENCE DES REALISATEURS
BEGIN:VEVENT
DTSTART:20151203T203000
DTEND:20151203T223000
SUMMARY:NINGEN EN PRESENCE DES REALISATEURS
DESCRIPTION:
LOCATION:Montluçon, cinéma le Palace
END:VEVENT
END:VCALENDAR
