BEGIN:VCALENDAR
VERSION:2.0
PRODID:-//Focales
CALSCALE:GREGORIAN
METHOD:PUBLISH
X-WR-CALNAME:Focales
X-ORIGINAL-URL:https://focales.org/latelier/
X-WR-CALDESC:L&rsquo;ATELIER
BEGIN:VEVENT
DTSTART:20160208T100000
DTEND:20160212T173000
SUMMARY:L&rsquo;ATELIER
DESCRIPTION:
LOCATION:4 boulevard Trudaine 63000 Clermont-ferrand
END:VEVENT
END:VCALENDAR
