BEGIN:VCALENDAR
VERSION:2.0
PRODID:-//Focales
CALSCALE:GREGORIAN
METHOD:PUBLISH
X-WR-CALNAME:Focales
X-ORIGINAL-URL:https://focales.org/les-grands-hommes-en-presence-de-la-realisatrice-2/
X-WR-CALDESC:LES GRANDS HOMMES EN PRESENCE DE LA REALISATRICE
BEGIN:VEVENT
DTSTART:20151215T203000
DTEND:20151215T223000
SUMMARY:LES GRANDS HOMMES EN PRESENCE DE LA REALISATRICE
DESCRIPTION:
LOCATION:Cinéma le Rio
END:VEVENT
END:VCALENDAR
