BEGIN:VCALENDAR
VERSION:2.0
PRODID:-//Focales
CALSCALE:GREGORIAN
METHOD:PUBLISH
X-WR-CALNAME:Focales
X-ORIGINAL-URL:https://focales.org/les-petites-mains-en-presence-du-realisateur/
X-WR-CALDESC:LES PETITES MAINS EN PRESENCE DU REALISATEUR
BEGIN:VEVENT
DTSTART:20151203T203000
DTEND:20151203T223000
SUMMARY:LES PETITES MAINS EN PRESENCE DU REALISATEUR
DESCRIPTION:
LOCATION:Cinéma le Rio
END:VEVENT
END:VCALENDAR
