BEGIN:VCALENDAR
VERSION:2.0
PRODID:-//Focales
CALSCALE:GREGORIAN
METHOD:PUBLISH
X-WR-CALNAME:Focales
X-ORIGINAL-URL:https://focales.org/concours-de-films-suedes/
X-WR-CALDESC:CONCOURS DE FILMS SUEDES
BEGIN:VEVENT
DTSTART:20160222T000000
DTEND:20160222T000000
SUMMARY:CONCOURS DE FILMS SUEDES
DESCRIPTION:
LOCATION:Cinefac, Clermont-Ferrand
END:VEVENT
END:VCALENDAR
