BEGIN:VCALENDAR
VERSION:2.0
PRODID:-//Focales
CALSCALE:GREGORIAN
METHOD:PUBLISH
X-WR-CALNAME:Focales
X-ORIGINAL-URL:https://focales.org/rencontre-nationale-des-poles-deducation-a-limage/
X-WR-CALDESC:RENCONTRE NATIONALE DES POLES D&rsquo;EDUCATION A L&rsquo;IMAGE
BEGIN:VEVENT
DTSTART:20160209T093000
DTEND:20160209T113000
SUMMARY:RENCONTRE NATIONALE DES POLES D&rsquo;EDUCATION A L&rsquo;IMAGE
DESCRIPTION:
LOCATION:La Jetée, place michel de l'hospital clermont ferrand 
END:VEVENT
END:VCALENDAR
