BEGIN:VCALENDAR
VERSION:2.0
PRODID:-//Focales
CALSCALE:GREGORIAN
METHOD:PUBLISH
X-WR-CALNAME:Focales
X-ORIGINAL-URL:https://focales.org/merci-patron-en-presence-du-realisateur/
X-WR-CALDESC:MERCI PATRON EN PRESENCE DU REALISATEUR
BEGIN:VEVENT
DTSTART:20160118T203000
DTEND:20160118T223000
SUMMARY:MERCI PATRON EN PRESENCE DU REALISATEUR
DESCRIPTION:
LOCATION:Cinéma le Rio
END:VEVENT
END:VCALENDAR
