BEGIN:VCALENDAR
VERSION:2.0
PRODID:-//Focales
CALSCALE:GREGORIAN
METHOD:PUBLISH
X-WR-CALNAME:Focales
X-ORIGINAL-URL:https://focales.org/changement-de-proprietaire-en-presence-des-realisateurs/
X-WR-CALDESC:CHANGEMENT DE PROPRIÉTAIRE EN PRESENCE DU RÉALISATEUR
BEGIN:VEVENT
DTSTART:20160203T203000
DTEND:20160203T223000
SUMMARY:CHANGEMENT DE PROPRIÉTAIRE EN PRESENCE DU RÉALISATEUR
DESCRIPTION:
LOCATION:Cinéma le Rio
END:VEVENT
END:VCALENDAR
