BEGIN:VCALENDAR
VERSION:2.0
PRODID:-//Focales
CALSCALE:GREGORIAN
METHOD:PUBLISH
X-WR-CALNAME:Focales
X-ORIGINAL-URL:https://focales.org/des-cines-la-vie/
X-WR-CALDESC:DES CINÉS, LA VIE !
BEGIN:VEVENT
DTSTART:20160111T140000
DTEND:20160111T160000
SUMMARY:DES CINÉS, LA VIE !
DESCRIPTION:
LOCATION:La Jetée, Clermont-Ferrand
END:VEVENT
END:VCALENDAR
