BEGIN:VCALENDAR
VERSION:2.0
PRODID:-//Focales
CALSCALE:GREGORIAN
METHOD:PUBLISH
X-WR-CALNAME:Focales
X-ORIGINAL-URL:https://focales.org/atelier-educmedia-caricature-et-liberte-dexpression/
X-WR-CALDESC:ATELIER EDUC&rsquo;MEDIA CARICATURE ET LIBERTÉ D&rsquo;EXPRESSION
BEGIN:VEVENT
DTSTART:20160109T103000
DTEND:20160109T123000
SUMMARY:ATELIER EDUC&rsquo;MEDIA CARICATURE ET LIBERTÉ D&rsquo;EXPRESSION
DESCRIPTION:
LOCATION:Médiathèque de Jaude
END:VEVENT
END:VCALENDAR
