BEGIN:VCALENDAR
VERSION:2.0
PRODID:-//Focales
CALSCALE:GREGORIAN
METHOD:PUBLISH
X-WR-CALNAME:Focales
X-ORIGINAL-URL:https://focales.org/atelier-educmedia-presse-ecrite/
X-WR-CALDESC:ATELIER EDUC&rsquo;MÉDIA PRESSE ÉCRITE
BEGIN:VEVENT
DTSTART:20160123T153000
DTEND:20160123T173000
SUMMARY:ATELIER EDUC&rsquo;MÉDIA PRESSE ÉCRITE
DESCRIPTION:
LOCATION:Médiathèque Hugo Pratt
END:VEVENT
END:VCALENDAR
