BEGIN:VCALENDAR
VERSION:2.0
PRODID:-//Focales
CALSCALE:GREGORIAN
METHOD:PUBLISH
X-WR-CALNAME:Focales
X-ORIGINAL-URL:https://focales.org/atelier-educmedia-kiosque-de-linfo/
X-WR-CALDESC:ATELIER EDUC&rsquo;MÉDIA : KIOSQUE DE L&rsquo;INFO
BEGIN:VEVENT
DTSTART:20160130T100000
DTEND:20160130T120000
SUMMARY:ATELIER EDUC&rsquo;MÉDIA : KIOSQUE DE L&rsquo;INFO
DESCRIPTION:
LOCATION:Médiathèque Jacques Prévert, lempdes
END:VEVENT
END:VCALENDAR
