BEGIN:VCALENDAR
VERSION:2.0
PRODID:-//Focales
CALSCALE:GREGORIAN
METHOD:PUBLISH
X-WR-CALNAME:Focales
X-ORIGINAL-URL:https://focales.org/atelier-coloriages-animes-2/
X-WR-CALDESC:ATELIER COLORIAGES ANIMÉS
BEGIN:VEVENT
DTSTART:20180212T150000
DTEND:20180212T173000
SUMMARY:ATELIER COLORIAGES ANIMÉS
DESCRIPTION:
LOCATION:Médiathèque Hugo-Pratt à Cournon d'Auvergne
END:VEVENT
END:VCALENDAR
