BEGIN:VCALENDAR
VERSION:2.0
PRODID:-//Focales
CALSCALE:GREGORIAN
METHOD:PUBLISH
X-WR-CALNAME:Focales
X-ORIGINAL-URL:https://focales.org/star-wars-film-suede/
X-WR-CALDESC:STAR WARS FILM SUÉDÉ
BEGIN:VEVENT
DTSTART:20160224T143000
DTEND:20160226T143000
SUMMARY:STAR WARS FILM SUÉDÉ
DESCRIPTION:
LOCATION:Place Alexandre Viallate - 63100 Clermont-Ferrand
END:VEVENT
END:VCALENDAR
