BEGIN:VCALENDAR
VERSION:2.0
PRODID:-//Focales
CALSCALE:GREGORIAN
METHOD:PUBLISH
X-WR-CALNAME:Focales
X-ORIGINAL-URL:https://focales.org/atelier-flip-book-2/
X-WR-CALDESC:ATELIER FLIP BOOK
BEGIN:VEVENT
DTSTART:20160217T150000
DTEND:20160217T170000
SUMMARY:ATELIER FLIP BOOK
DESCRIPTION:
LOCATION:rue de la poste, saint genès champanelle 
END:VEVENT
END:VCALENDAR
