BEGIN:VCALENDAR
VERSION:2.0
PRODID:-//Focales
CALSCALE:GREGORIAN
METHOD:PUBLISH
X-WR-CALNAME:Focales
X-ORIGINAL-URL:https://focales.org/atelier-pixillation/
X-WR-CALDESC:ATELIER PIXILLATION
BEGIN:VEVENT
DTSTART:20180215T143000
DTEND:20180215T173000
SUMMARY:ATELIER PIXILLATION
DESCRIPTION:
LOCATION:https://www.google.fr/maps/place/Médiathèque+Aimé+Césaire/@45.8277171,3.0767405,17z/data=!3m1!4b1!4m5!3m4!1s0x47f718fccf004ab7:0x9cf2b0c93246f39f!8m2!3d45.8277171!4d3.0789292?dcr=0
END:VEVENT
END:VCALENDAR
