BEGIN:VCALENDAR
VERSION:2.0
PRODID:-//Focales
CALSCALE:GREGORIAN
METHOD:PUBLISH
X-WR-CALNAME:Focales
X-ORIGINAL-URL:https://focales.org/atelier-stop-motion/
X-WR-CALDESC:ATELIER STOP MOTION
BEGIN:VEVENT
DTSTART:20180215T150000
DTEND:20180215T180000
SUMMARY:ATELIER STOP MOTION
DESCRIPTION:
LOCATION:https://www.google.fr/maps?client=safari&rls=en&oe=UTF-8&gfe_rd=cr&dcr=0&q=médiathèque+de+jaude&um=1&ie=UTF-8&sa=X&ved=0ahUKEwjg89DTs4TZAhVoIcAKHTRBAm4Q_AUICigB
END:VEVENT
END:VCALENDAR
