BEGIN:VCALENDAR
VERSION:2.0
PRODID:-//Focales
CALSCALE:GREGORIAN
METHOD:PUBLISH
X-WR-CALNAME:Focales
X-ORIGINAL-URL:https://focales.org/atelier-light-painting/
X-WR-CALDESC:ATELIER LIGHT PAINTING
BEGIN:VEVENT
DTSTART:20160227T100000
DTEND:20160227T120000
SUMMARY:ATELIER LIGHT PAINTING
DESCRIPTION:
LOCATION:Médiathèque Hugo Pratt
END:VEVENT
END:VCALENDAR
