BEGIN:VCALENDAR
VERSION:2.0
PRODID:-//Focales
CALSCALE:GREGORIAN
METHOD:PUBLISH
X-WR-CALNAME:Focales
X-ORIGINAL-URL:https://focales.org/javancerai-vers-toi-avec-les-yeux-dun-sourd-en-presence-de-la-realisatrice/
X-WR-CALDESC:J&rsquo;AVANCERAI VERS TOI AVEC LES YEUX D&rsquo;UN SOURD EN PRESENCE DE LA REALISATRICE
BEGIN:VEVENT
DTSTART:20160117T160000
DTEND:20160117T180000
SUMMARY:J&rsquo;AVANCERAI VERS TOI AVEC LES YEUX D&rsquo;UN SOURD EN PRESENCE DE LA REALISATRICE
DESCRIPTION:
LOCATION:cinéma capitole 
END:VEVENT
END:VCALENDAR
