BEGIN:VCALENDAR
VERSION:2.0
PRODID:-//Focales
CALSCALE:GREGORIAN
METHOD:PUBLISH
X-WR-CALNAME:Focales
X-ORIGINAL-URL:https://focales.org/atelier-stop-motion-3-2/
X-WR-CALDESC:ATELIER STOP-MOTION
BEGIN:VEVENT
DTSTART:20160225T100000
DTEND:20160225T120000
SUMMARY:ATELIER STOP-MOTION
DESCRIPTION:
LOCATION:Clermont-Ferrand, médiathèque de Jaude 
END:VEVENT
END:VCALENDAR
