BEGIN:VCALENDAR
VERSION:2.0
PRODID:-//Focales
CALSCALE:GREGORIAN
METHOD:PUBLISH
X-WR-CALNAME:Focales
X-ORIGINAL-URL:https://focales.org/lelan-cinema-le-rio/
X-WR-CALDESC:L&rsquo;ÉLAN
BEGIN:VEVENT
DTSTART:20150619T203000
DTEND:20150619T212800
SUMMARY:L&rsquo;ÉLAN
DESCRIPTION:
LOCATION:Clermont-Ferrand, Cinéma Le Rio, 178 rue Sous Les Vignes
END:VEVENT
END:VCALENDAR
