BEGIN:VCALENDAR
VERSION:2.0
PRODID:-//Focales
CALSCALE:GREGORIAN
METHOD:PUBLISH
X-WR-CALNAME:Focales
X-ORIGINAL-URL:https://focales.org/des-cines-la-vie-2/
X-WR-CALDESC:DES CINES, LA VIE!
BEGIN:VEVENT
DTSTART:20160215T140000
DTEND:20160215T160000
SUMMARY:DES CINES, LA VIE!
DESCRIPTION:
LOCATION:Corum Saint Jean
END:VEVENT
END:VCALENDAR
