BEGIN:VCALENDAR
VERSION:2.0
PRODID:-//Focales
CALSCALE:GREGORIAN
METHOD:PUBLISH
X-WR-CALNAME:Focales
X-ORIGINAL-URL:https://focales.org/programme-f2-en-presence-de-deux-realisateurs/
X-WR-CALDESC:PROGRAMME F2 EN PRESENCE DE DEUX REALISATEURS
BEGIN:VEVENT
DTSTART:20160208T140000
DTEND:20160208T160000
SUMMARY:PROGRAMME F2 EN PRESENCE DE DEUX REALISATEURS
DESCRIPTION:
LOCATION:cinéma Le Rio 
END:VEVENT
END:VCALENDAR
