BEGIN:VCALENDAR
VERSION:2.0
PRODID:-//Focales
CALSCALE:GREGORIAN
METHOD:PUBLISH
X-WR-CALNAME:Focales
X-ORIGINAL-URL:https://focales.org/16e-festival-cine-clap-2/
X-WR-CALDESC:16e  FESTIVAL CINE CLAP
BEGIN:VEVENT
DTSTART:20160606T100000
DTEND:20160609T230000
SUMMARY:16e  FESTIVAL CINE CLAP
DESCRIPTION:
LOCATION:cinéma les enfants du Paradis 
END:VEVENT
END:VCALENDAR
