BEGIN:VCALENDAR
VERSION:2.0
PRODID:-//Focales
CALSCALE:GREGORIAN
METHOD:PUBLISH
X-WR-CALNAME:Focales
X-ORIGINAL-URL:https://focales.org/preac-image-matieres-et-creation/
X-WR-CALDESC:PREAC IMAGE MATIERES ET CREATION
BEGIN:VEVENT
DTSTART:20160322T093000
DTEND:20160323T170000
SUMMARY:PREAC IMAGE MATIERES ET CREATION
DESCRIPTION:
LOCATION:Canopée Clermont-Ferrand
END:VEVENT
END:VCALENDAR
