BEGIN:VCALENDAR
VERSION:2.0
PRODID:-//Focales
CALSCALE:GREGORIAN
METHOD:PUBLISH
X-WR-CALNAME:Focales
X-ORIGINAL-URL:https://focales.org/programme-f10-en-presence-de-deux-realisateurs/
X-WR-CALDESC:PROGRAMME F10 EN PRESENCE DE DEUX REALISATRICES
BEGIN:VEVENT
DTSTART:20160209T140000
DTEND:20160209T160000
SUMMARY:PROGRAMME F10 EN PRESENCE DE DEUX REALISATRICES
DESCRIPTION:
LOCATION:cinéma le Rio
END:VEVENT
END:VCALENDAR
