BEGIN:VCALENDAR
VERSION:2.0
PRODID:-//Focales
CALSCALE:GREGORIAN
METHOD:PUBLISH
X-WR-CALNAME:Focales
X-ORIGINAL-URL:https://focales.org/programme-f6-en-presence-de-deux-realisateurs/
X-WR-CALDESC:PROGRAMME F6 EN PRESENCE DE DEUX REALISATEURS
BEGIN:VEVENT
DTSTART:20160210T140000
DTEND:20160210T160000
SUMMARY:PROGRAMME F6 EN PRESENCE DE DEUX REALISATEURS
DESCRIPTION:
LOCATION:cinéma le Rio
END:VEVENT
END:VCALENDAR
