BEGIN:VCALENDAR
VERSION:2.0
PRODID:-//Focales
CALSCALE:GREGORIAN
METHOD:PUBLISH
X-WR-CALNAME:Focales
X-ORIGINAL-URL:https://focales.org/a-peine-jouvre-les-yeux-en-presence-de-la-realisatrice-2/
X-WR-CALDESC:A PEINE J&rsquo;OUVRE LES YEUX EN PRESENCE DE LA REALISATRICE
BEGIN:VEVENT
DTSTART:20160212T200000
DTEND:20160212T220000
SUMMARY:A PEINE J&rsquo;OUVRE LES YEUX EN PRESENCE DE LA REALISATRICE
DESCRIPTION:
LOCATION:cinéma le Rio
END:VEVENT
END:VCALENDAR
