BEGIN:VCALENDAR
VERSION:2.0
PRODID:-//Focales
CALSCALE:GREGORIAN
METHOD:PUBLISH
X-WR-CALNAME:Focales
X-ORIGINAL-URL:https://focales.org/projection-de-films-dagnes-varda-en-sa-presence/
X-WR-CALDESC:PROJECTION DE FILMS D&rsquo;AGNES VARDA EN SA PRESENCE
BEGIN:VEVENT
DTSTART:20160204T200000
DTEND:20160204T220000
SUMMARY:PROJECTION DE FILMS D&rsquo;AGNES VARDA EN SA PRESENCE
DESCRIPTION:
LOCATION:UFR Lettres langues sciences humaines Clermont-Ferrand
END:VEVENT
END:VCALENDAR
