BEGIN:VCALENDAR
VERSION:2.0
PRODID:-//Focales
CALSCALE:GREGORIAN
METHOD:PUBLISH
X-WR-CALNAME:Focales
X-ORIGINAL-URL:https://focales.org/13e-festival-plein-la-bobine/
X-WR-CALDESC:13e FESTIVAL PLEIN LA BOBINE
BEGIN:VEVENT
DTSTART:20150613T173000
DTEND:20150619T200000
SUMMARY:13e FESTIVAL PLEIN LA BOBINE
DESCRIPTION:
LOCATION:Casino de La Bourboule, avenue Maréchal Foch, 63150 La Bourboule 
END:VEVENT
END:VCALENDAR
