BEGIN:VCALENDAR
VERSION:2.0
PRODID:-//Focales
CALSCALE:GREGORIAN
METHOD:PUBLISH
X-WR-CALNAME:Focales
X-ORIGINAL-URL:https://focales.org/master-class-dolivier-megaton/
X-WR-CALDESC:MASTER CLASS D&rsquo;OLIVIER MEGATON
BEGIN:VEVENT
DTSTART:20160209T160000
DTEND:20160209T180000
SUMMARY:MASTER CLASS D&rsquo;OLIVIER MEGATON
DESCRIPTION:
LOCATION: 51 Boulevard François Mitterrand, 63000 Clermont-Ferrand
END:VEVENT
END:VCALENDAR
